BEGIN:VCALENDAR
VERSION:2.0
PRODID:-////NONSGML kigkonsult.se iCalcreator 2.22//
X-WR-CALNAME:Mon calendrier de 'Soliitude'
X-WR-CALDESC:Un flux ical exporté par EQdkp Plus
X-WR-TIMEZONE:Europe/Paris
BEGIN:VTIMEZONE
TZID:Europe/Paris
X-LIC-LOCATION:Europe/Paris
BEGIN:STANDARD
DTSTART:20211031T030000
TZOFFSETFROM:+0200
TZOFFSETTO:+0100
RDATE:20221030T030000
TZNAME:CET
END:STANDARD
BEGIN:DAYLIGHT
DTSTART:20210328T020000
TZOFFSETFROM:+0100
TZOFFSETTO:+0200
RDATE:20220327T020000
TZNAME:CEST
END:DAYLIGHT
END:VTIMEZONE
BEGIN:VEVENT
UID:20210820T110750UTC-1986iB2uCK@185.163.126.65
DTSTAMP:20210820T110750Z
CATEGORIES:PERSONAL
CLASS:PUBLIC
DESCRIPTION:
DTSTART:20210828T183000Z
DTEND:20210828T190000Z
SUMMARY:Faction
END:VEVENT
END:VCALENDAR
